Name | Last modified | Size | Description | |
---|---|---|---|---|
Parent Directory | - | |||
install-out.txt | 28-Jul-2024 00:38 | 968 | ||
install-summary.dcf | 28-Jul-2024 00:38 | 258 | ||
buildsrc-out.txt | 28-Jul-2024 00:38 | 893 | ||
buildsrc-summary.dcf | 28-Jul-2024 00:38 | 423 | ||
checksrc-summary.dcf | 28-Jul-2024 00:38 | 413 | ||
checksrc-out.txt | 28-Jul-2024 00:38 | 8.3K | ||