Index of /checkResults/devel/bioc-LATEST/DEGraph/raw-results

[ICO]NameLast modifiedSizeDescription

[DIR]Parent Directory  -  
[   ]info.dcf28-Sep-2023 00:40 268  
[DIR]kunpeng2/28-Sep-2023 00:40 -  
[DIR]nebbiolo2/28-Sep-2023 00:36 -