Name | Last modified | Size | Description | |
---|---|---|---|---|
Parent Directory | - | |||
install-summary.dcf | 07-Jul-2024 00:44 | 247 | ||
buildsrc-summary.dcf | 09-Jul-2024 00:44 | 405 | ||
checksrc-summary.dcf | 09-Jul-2024 00:44 | 405 | ||
buildsrc-out.txt | 09-Jul-2024 00:44 | 857 | ||
install-out.txt | 07-Jul-2024 00:44 | 950 | ||
checksrc-out.txt | 09-Jul-2024 00:44 | 8.6K | ||