Index of /checkResults/devel/bioc-LATEST/DEGraph/raw-results
Name
Last modified
Size
Description
Parent Directory
-
nebbiolo2/
28-Jul-2024 00:38
-
kunpeng2/
09-Jul-2024 00:44
-
info.dcf
28-Jul-2024 00:37
268