![]() | Name | Last modified | Size | Description |
---|---|---|---|---|
![]() | Parent Directory | - | ||
![]() | buildsrc-out.txt | 05-Dec-2023 01:38 | 878 | |
![]() | buildsrc-summary.dcf | 05-Dec-2023 01:38 | 426 | |
![]() | checksrc-out.txt | 05-Dec-2023 01:38 | 8.6K | |
![]() | checksrc-summary.dcf | 05-Dec-2023 01:38 | 447 | |
![]() | install-out.txt | 05-Dec-2023 01:38 | 1.0K | |
![]() | install-summary.dcf | 05-Dec-2023 01:38 | 268 | |