Index of /checkResults/devel/bioc-LATEST/DAMEfinder/raw-results/palomino4

[ICO]NameLast modifiedSizeDescription

[DIR]Parent Directory  -  
[TXT]buildbin-out.txt02-Jul-2022 00:05 1.2K 
[   ]buildbin-summary.dcf02-Jul-2022 00:05 548  
[TXT]buildsrc-out.txt02-Jul-2022 00:05 913  
[   ]buildsrc-summary.dcf02-Jul-2022 00:05 463  
[TXT]checksrc-out.txt02-Jul-2022 00:05 3.3K 
[   ]checksrc-summary.dcf02-Jul-2022 00:05 460  
[TXT]install-out.txt02-Jul-2022 00:05 1.8K 
[   ]install-summary.dcf02-Jul-2022 00:05 649