![]() | Name | Last modified | Size | Description |
---|---|---|---|---|
![]() | Parent Directory | - | ||
![]() | checksrc-summary.dcf | 14-Aug-2022 00:06 | 460 | |
![]() | buildsrc-summary.dcf | 14-Aug-2022 00:06 | 463 | |
![]() | buildbin-summary.dcf | 14-Aug-2022 00:06 | 548 | |
![]() | install-summary.dcf | 14-Aug-2022 00:06 | 649 | |
![]() | buildsrc-out.txt | 14-Aug-2022 00:06 | 913 | |
![]() | buildbin-out.txt | 14-Aug-2022 00:06 | 1.2K | |
![]() | install-out.txt | 14-Aug-2022 00:06 | 1.9K | |
![]() | checksrc-out.txt | 14-Aug-2022 00:06 | 3.2K | |