Name | Last modified | Size | Description | |
---|---|---|---|---|
Parent Directory | - | |||
install-summary.dcf | 28-Jun-2024 00:38 | 266 | ||
install-out.txt | 28-Jun-2024 00:38 | 1.0K | ||
checksrc-summary.dcf | 28-Jun-2024 00:38 | 438 | ||
checksrc-out.txt | 28-Jun-2024 00:38 | 9.1K | ||
buildsrc-summary.dcf | 28-Jun-2024 00:38 | 422 | ||
buildsrc-out.txt | 28-Jun-2024 00:38 | 811 | ||
buildbin-summary.dcf | 28-Jun-2024 00:38 | 521 | ||
buildbin-out.txt | 28-Jun-2024 00:38 | 1.2K | ||