Index of /checkResults/devel/bioc-LATEST/CoGAPS/raw-results/lconway

[ICO]NameLast modifiedSizeDescription

[DIR]Parent Directory  -  
[TXT]buildbin-out.txt19-Aug-2022 00:07 27K 
[   ]buildbin-summary.dcf19-Aug-2022 00:07 525  
[TXT]buildsrc-out.txt19-Aug-2022 00:07 953  
[   ]buildsrc-summary.dcf19-Aug-2022 00:07 425  
[TXT]checksrc-out.txt19-Aug-2022 00:07 5.9K 
[   ]checksrc-summary.dcf19-Aug-2022 00:07 446  
[TXT]install-out.txt19-Aug-2022 00:07 26K 
[   ]install-summary.dcf19-Aug-2022 00:07 268