Name | Last modified | Size | Description | |
---|---|---|---|---|
Parent Directory | - | |||
buildbin-out.txt | 28-Mar-2024 00:39 | 20K | ||
buildbin-summary.dcf | 28-Mar-2024 00:39 | 525 | ||
buildsrc-out.txt | 29-Mar-2024 00:38 | 1.9K | ||
buildsrc-summary.dcf | 29-Mar-2024 00:38 | 342 | ||
checksrc-out.txt | 28-Mar-2024 00:39 | 5.9K | ||
checksrc-summary.dcf | 28-Mar-2024 00:39 | 440 | ||
install-out.txt | 29-Mar-2024 00:38 | 18K | ||
install-summary.dcf | 29-Mar-2024 00:38 | 268 | ||