Name | Last modified | Size | Description | |
---|---|---|---|---|
Parent Directory | - | |||
install-summary.dcf | 27-Jul-2024 00:39 | 279 | ||
install-out.txt | 27-Jul-2024 00:39 | 1.0K | ||
checksrc-summary.dcf | 27-Jul-2024 00:39 | 467 | ||
checksrc-out.txt | 27-Jul-2024 00:39 | 3.9K | ||
buildsrc-summary.dcf | 27-Jul-2024 00:39 | 474 | ||
buildsrc-out.txt | 27-Jul-2024 00:39 | 864 | ||
buildbin-summary.dcf | 27-Jul-2024 00:39 | 546 | ||
buildbin-out.txt | 27-Jul-2024 00:39 | 1.1K | ||