Index of /checkResults/devel/bioc-LATEST/ChIPpeakAnno/raw-results

[ICO]NameLast modifiedSizeDescription

[DIR]Parent Directory  -  
[   ]info.dcf27-May-2022 00:03 274  
[DIR]lconway/25-May-2022 00:07 -  
[DIR]nebbiolo2/27-May-2022 00:02 -  
[DIR]palomino4/27-May-2022 00:03 -