Name | Last modified | Size | Description | |
---|---|---|---|---|
Parent Directory | - | |||
buildbin-out.txt | 02-May-2024 00:39 | 4.3K | ||
buildbin-summary.dcf | 02-May-2024 00:39 | 519 | ||
buildsrc-out.txt | 02-May-2024 00:39 | 848 | ||
buildsrc-summary.dcf | 02-May-2024 00:39 | 422 | ||
checksrc-out.txt | 02-May-2024 00:39 | 6.4K | ||
checksrc-summary.dcf | 02-May-2024 00:39 | 443 | ||
install-out.txt | 02-May-2024 00:39 | 4.1K | ||
install-summary.dcf | 02-May-2024 00:39 | 265 | ||