Index of /checkResults/devel/bioc-LATEST/ChAMP/raw-results
Name
Last modified
Size
Description
Parent Directory
-
info.dcf
08-Feb-2023 01:06
257
merida1/
08-Feb-2023 01:06
-
nebbiolo1/
08-Feb-2023 01:05
-
palomino3/
08-Feb-2023 01:05
-