Name | Last modified | Size | Description | |
---|---|---|---|---|
Parent Directory | - | |||
install-summary.dcf | 16-Jun-2024 01:33 | 258 | ||
install-out.txt | 16-Jun-2024 01:33 | 928 | ||
checksrc-summary.dcf | 16-Jun-2024 01:33 | 413 | ||
checksrc-out.txt | 16-Jun-2024 01:33 | 8.4K | ||
buildsrc-summary.dcf | 16-Jun-2024 01:33 | 420 | ||
buildsrc-out.txt | 16-Jun-2024 01:33 | 821 | ||