Index of /checkResults/devel/bioc-LATEST/CBEA/raw-results/nebbiolo2

[ICO]NameLast modifiedSizeDescription

[DIR]Parent Directory  -  
[   ]install-summary.dcf13-Jul-2024 01:29 252  
[   ]checksrc-summary.dcf13-Jul-2024 01:29 400  
[   ]buildsrc-summary.dcf13-Jul-2024 01:29 411  
[TXT]buildsrc-out.txt13-Jul-2024 01:29 910  
[TXT]install-out.txt13-Jul-2024 01:29 1.7K 
[TXT]checksrc-out.txt13-Jul-2024 01:29 3.9K