Index of /checkResults/devel/bioc-LATEST/BloodGen3Module/raw-results
Name
Last modified
Size
Description
Parent Directory
-
nebbiolo2/
17-May-2022 00:04
-
palomino4/
17-May-2022 00:05
-
info.dcf
17-May-2022 00:07
281
lconway/
17-May-2022 00:07
-