Index of /checkResults/devel/bioc-LATEST/BloodGen3Module/raw-results/kunpeng2

[ICO]NameLast modifiedSizeDescription

[DIR]Parent Directory  -  
[TXT]buildsrc-out.txt29-Mar-2024 00:40 910  
[   ]buildsrc-summary.dcf29-Mar-2024 00:40 451  
[TXT]checksrc-out.txt29-Mar-2024 00:40 4.5K 
[   ]checksrc-summary.dcf29-Mar-2024 00:40 485  
[TXT]install-out.txt29-Mar-2024 00:40 2.5K 
[   ]install-summary.dcf29-Mar-2024 00:40 284