Name | Last modified | Size | Description | |
---|---|---|---|---|
Parent Directory | - | |||
checksrc-out.txt | 28-Jul-2024 00:39 | 4.0K | ||
buildbin-out.txt | 28-Jul-2024 00:39 | 2.4K | ||
install-out.txt | 28-Jul-2024 00:39 | 2.2K | ||
buildsrc-out.txt | 28-Jul-2024 00:39 | 896 | ||
buildbin-summary.dcf | 28-Jul-2024 00:39 | 545 | ||
buildsrc-summary.dcf | 28-Jul-2024 00:39 | 472 | ||
checksrc-summary.dcf | 28-Jul-2024 00:39 | 467 | ||
install-summary.dcf | 28-Jul-2024 00:39 | 278 | ||