Name | Last modified | Size | Description | |
---|---|---|---|---|
Parent Directory | - | |||
checksrc-out.txt | 17-Jul-2024 00:40 | 4.0K | ||
buildbin-out.txt | 17-Jul-2024 00:40 | 2.4K | ||
install-out.txt | 17-Jul-2024 00:40 | 2.3K | ||
buildsrc-out.txt | 17-Jul-2024 00:40 | 902 | ||
buildbin-summary.dcf | 17-Jul-2024 00:40 | 551 | ||
checksrc-summary.dcf | 17-Jul-2024 00:40 | 479 | ||
buildsrc-summary.dcf | 17-Jul-2024 00:40 | 478 | ||
install-summary.dcf | 17-Jul-2024 00:40 | 284 | ||