Index of /checkResults/devel/bioc-LATEST/BiocSingular/raw-results/kunpeng2

[ICO]NameLast modifiedSizeDescription

[DIR]Parent Directory  -  
[TXT]checksrc-out.txt18-Feb-2024 16:29 4.2K 
[TXT]install-out.txt18-Feb-2024 16:29 3.3K 
[TXT]buildsrc-out.txt18-Feb-2024 16:29 868  
[   ]checksrc-summary.dcf18-Feb-2024 16:29 477  
[   ]buildsrc-summary.dcf18-Feb-2024 16:29 444  
[   ]install-summary.dcf18-Feb-2024 16:29 281