Name | Last modified | Size | Description | |
---|---|---|---|---|
Parent Directory | - | |||
buildbin-out.txt | 12-Jun-2024 04:40 | 54K | ||
buildbin-summary.dcf | 12-Jun-2024 04:40 | 552 | ||
buildsrc-out.txt | 12-Jun-2024 04:40 | 901 | ||
buildsrc-summary.dcf | 12-Jun-2024 04:40 | 476 | ||
checksrc-out.txt | 12-Jun-2024 04:40 | 5.9K | ||
checksrc-summary.dcf | 12-Jun-2024 04:40 | 477 | ||
install-out.txt | 12-Jun-2024 04:40 | 54K | ||
install-summary.dcf | 12-Jun-2024 04:40 | 281 | ||