Index of /checkResults/devel/bioc-LATEST/BiocNeighbors/raw-results
Name
Last modified
Size
Description
Parent Directory
-
info.dcf
02-May-2024 00:35
301
kunpeng2/
30-Apr-2024 00:40
-
lconway/
02-May-2024 00:36
-
merida1/
05-Mar-2024 01:38
-
nebbiolo1/
02-May-2024 00:35
-
palomino3/
30-Apr-2024 00:37
-