Name | Last modified | Size | Description | |
---|---|---|---|---|
Parent Directory | - | |||
install-summary.dcf | 28-Jun-2024 00:38 | 281 | ||
buildsrc-summary.dcf | 28-Jun-2024 00:38 | 444 | ||
checksrc-summary.dcf | 28-Jun-2024 00:38 | 473 | ||
buildbin-summary.dcf | 28-Jun-2024 00:38 | 566 | ||
buildsrc-out.txt | 28-Jun-2024 00:38 | 870 | ||
checksrc-out.txt | 28-Jun-2024 00:38 | 5.0K | ||
install-out.txt | 28-Jun-2024 00:38 | 10K | ||
buildbin-out.txt | 28-Jun-2024 00:38 | 12K | ||