Name | Last modified | Size | Description | |
---|---|---|---|---|
Parent Directory | - | |||
install-out.txt | 12-Jun-2024 04:42 | 10K | ||
install-summary.dcf | 12-Jun-2024 04:42 | 282 | ||
buildsrc-summary.dcf | 12-Jun-2024 04:42 | 445 | ||
buildsrc-out.txt | 12-Jun-2024 04:42 | 870 | ||
checksrc-out.txt | 12-Jun-2024 04:42 | 5.3K | ||
checksrc-summary.dcf | 12-Jun-2024 04:42 | 474 | ||
buildbin-summary.dcf | 12-Jun-2024 04:42 | 567 | ||
buildbin-out.txt | 12-Jun-2024 04:42 | 12K | ||