Name | Last modified | Size | Description | |
---|---|---|---|---|
Parent Directory | - | |||
buildbin-out.txt | 13-Jul-2024 01:33 | 3.7K | ||
buildbin-summary.dcf | 13-Jul-2024 01:33 | 523 | ||
buildsrc-out.txt | 13-Jul-2024 01:33 | 905 | ||
buildsrc-summary.dcf | 13-Jul-2024 01:33 | 424 | ||
checksrc-out.txt | 13-Jul-2024 01:33 | 4.3K | ||
checksrc-summary.dcf | 13-Jul-2024 01:33 | 440 | ||
install-out.txt | 13-Jul-2024 01:33 | 1.8K | ||
install-summary.dcf | 13-Jul-2024 01:33 | 266 | ||