Name | Last modified | Size | Description | |
---|---|---|---|---|
Parent Directory | - | |||
buildbin-summary.dcf | 12-Jun-2024 04:41 | 512 | ||
buildbin-out.txt | 12-Jun-2024 04:41 | 1.1K | ||
checksrc-summary.dcf | 12-Jun-2024 04:41 | 432 | ||
checksrc-out.txt | 12-Jun-2024 04:41 | 4.1K | ||
buildsrc-summary.dcf | 12-Jun-2024 04:41 | 419 | ||
buildsrc-out.txt | 12-Jun-2024 04:41 | 867 | ||
install-summary.dcf | 12-Jun-2024 04:41 | 263 | ||
install-out.txt | 12-Jun-2024 04:41 | 1.0K | ||