Name | Last modified | Size | Description | |
---|---|---|---|---|
Parent Directory | - | |||
buildbin-out.txt | 28-Jul-2024 00:39 | 1.1K | ||
buildbin-summary.dcf | 28-Jul-2024 00:39 | 563 | ||
buildsrc-out.txt | 28-Jul-2024 00:39 | 2.6K | ||
buildsrc-summary.dcf | 28-Jul-2024 00:39 | 484 | ||
checksrc-out.txt | 28-Jul-2024 00:39 | 3.6K | ||
checksrc-summary.dcf | 28-Jul-2024 00:39 | 479 | ||
install-out.txt | 28-Jul-2024 00:39 | 1.0K | ||
install-summary.dcf | 28-Jul-2024 00:39 | 285 | ||