Name | Last modified | Size | Description | |
---|---|---|---|---|
Parent Directory | - | |||
install-out.txt | 17-Jul-2024 00:39 | 1.0K | ||
install-summary.dcf | 17-Jul-2024 00:39 | 290 | ||
buildsrc-out.txt | 17-Jul-2024 00:39 | 2.6K | ||
buildsrc-summary.dcf | 17-Jul-2024 00:39 | 490 | ||
checksrc-out.txt | 17-Jul-2024 00:39 | 3.6K | ||
checksrc-summary.dcf | 17-Jul-2024 00:39 | 491 | ||
buildbin-summary.dcf | 17-Jul-2024 00:39 | 569 | ||
buildbin-out.txt | 17-Jul-2024 00:39 | 1.1K | ||