Name | Last modified | Size | Description | |
---|---|---|---|---|
Parent Directory | - | |||
install-summary.dcf | 27-Jul-2024 00:38 | 275 | ||
install-out.txt | 27-Jul-2024 00:38 | 1.0K | ||
checksrc-summary.dcf | 27-Jul-2024 00:38 | 446 | ||
checksrc-out.txt | 27-Jul-2024 00:38 | 3.5K | ||
buildsrc-summary.dcf | 27-Jul-2024 00:38 | 448 | ||
buildsrc-out.txt | 27-Jul-2024 00:38 | 2.7K | ||