Name | Last modified | Size | Description | |
---|---|---|---|---|
Parent Directory | - | |||
buildsrc-out.txt | 12-Jun-2024 04:41 | 3.0K | ||
buildsrc-summary.dcf | 12-Jun-2024 04:41 | 360 | ||
install-summary.dcf | 12-Jun-2024 04:41 | 285 | ||
install-out.txt | 12-Jun-2024 04:41 | 1.0K | ||
buildbin-summary.dcf | 05-Jun-2024 03:35 | 578 | ||
buildbin-out.txt | 05-Jun-2024 03:35 | 1.2K | ||
checksrc-summary.dcf | 05-Jun-2024 03:35 | 476 | ||
checksrc-out.txt | 05-Jun-2024 03:35 | 3.6K | ||