Name | Last modified | Size | Description | |
---|---|---|---|---|
Parent Directory | - | |||
install-summary.dcf | 07-Jul-2024 00:44 | 263 | ||
install-out.txt | 07-Jul-2024 00:44 | 958 | ||
checksrc-summary.dcf | 09-Jul-2024 00:44 | 437 | ||
checksrc-out.txt | 09-Jul-2024 00:44 | 3.6K | ||
buildsrc-summary.dcf | 09-Jul-2024 00:44 | 428 | ||
buildsrc-out.txt | 09-Jul-2024 00:44 | 2.6K | ||