Index of /checkResults/devel/bioc-LATEST/AnnotationForge/raw-results/kjohnson1
Name
Last modified
Size
Description
Parent Directory
-
buildsrc-out.txt
12-Jun-2024 04:42
3.0K
install-out.txt
12-Jun-2024 04:42
1.0K
buildsrc-summary.dcf
12-Jun-2024 04:42
360
install-summary.dcf
12-Jun-2024 04:42
285