Name | Last modified | Size | Description | |
---|---|---|---|---|
Parent Directory | - | |||
buildsrc-summary.dcf | 12-Jun-2024 04:41 | 356 | ||
buildsrc-out.txt | 12-Jun-2024 04:41 | 2.3K | ||
install-summary.dcf | 12-Jun-2024 04:41 | 281 | ||
install-out.txt | 12-Jun-2024 04:41 | 1.5K | ||
buildbin-out.txt | 05-Jun-2024 03:35 | 1.7K | ||
buildbin-summary.dcf | 05-Jun-2024 03:35 | 566 | ||
checksrc-summary.dcf | 05-Jun-2024 03:35 | 474 | ||
checksrc-out.txt | 05-Jun-2024 03:35 | 4.7K | ||