Name | Last modified | Size | Description | |
---|---|---|---|---|
Parent Directory | - | |||
install-summary.dcf | 07-Jul-2024 00:44 | 259 | ||
install-out.txt | 07-Jul-2024 00:44 | 1.4K | ||
checksrc-summary.dcf | 09-Jul-2024 00:44 | 431 | ||
checksrc-out.txt | 09-Jul-2024 00:44 | 1.5K | ||
buildsrc-summary.dcf | 09-Jul-2024 00:44 | 423 | ||
buildsrc-out.txt | 09-Jul-2024 00:44 | 818 | ||