Name | Last modified | Size | Description | |
---|---|---|---|---|
Parent Directory | - | |||
buildbin-summary.dcf | 28-Jul-2024 00:39 | 570 | ||
buildbin-out.txt | 28-Jul-2024 00:39 | 1.4K | ||
checksrc-summary.dcf | 28-Jul-2024 00:39 | 483 | ||
checksrc-out.txt | 28-Jul-2024 00:39 | 3.9K | ||
buildsrc-summary.dcf | 28-Jul-2024 00:39 | 489 | ||
buildsrc-out.txt | 28-Jul-2024 00:39 | 884 | ||
install-summary.dcf | 28-Jul-2024 00:39 | 287 | ||
install-out.txt | 28-Jul-2024 00:39 | 1.2K | ||