Index of /checkResults/devel/bioc-LATEST/ATACCoGAPS/raw-results/palomino8
Name
Last modified
Size
Description
Parent Directory
-
install-summary.dcf
17-Jul-2024 00:44
273
install-out.txt
17-Jul-2024 00:44
971
buildsrc-summary.dcf
17-Jul-2024 00:44
376
buildsrc-out.txt
17-Jul-2024 00:44
1.0K