Index of /checkResults/devel/bioc-LATEST/ATACCoGAPS/raw-results

[ICO]NameLast modifiedSizeDescription

[DIR]Parent Directory  -  
[   ]info.dcf10-Dec-2023 02:24 1.0K 
[DIR]kunpeng2/10-Dec-2023 02:24 -  
[DIR]merida1/10-Dec-2023 02:23 -  
[DIR]nebbiolo1/10-Dec-2023 02:20 -  
[DIR]palomino3/10-Dec-2023 02:21 -