Index of /checkResults/devel/bioc-LATEST/ANCOMBC/raw-results/kjohnson3
Name
Last modified
Size
Description
Parent Directory
-
install-summary.dcf
28-Jun-2024 00:38
270
install-out.txt
28-Jun-2024 00:38
1.5K
buildsrc-summary.dcf
28-Jun-2024 00:38
341
buildsrc-out.txt
28-Jun-2024 00:38
1.7K