Back to Multiple platform build/check report for BioC 3.9 |
|
This page was generated on 2019-04-09 12:12:54 -0400 (Tue, 09 Apr 2019).
Package 1120/1703 | Hostname | OS / Arch | INSTALL | BUILD | CHECK | BUILD BIN | ||||||
openCyto 1.21.3 Mike Jiang
| malbec2 | Linux (Ubuntu 18.04.2 LTS) / x86_64 | OK | OK | OK | |||||||
tokay2 | Windows Server 2012 R2 Standard / x64 | OK | [ OK ] | OK | OK | |||||||
celaya2 | OS X 10.11.6 El Capitan / x86_64 | OK | OK | OK | OK | |||||||
merida2 | OS X 10.11.6 El Capitan / x86_64 | OK | OK | OK | OK |
Package: openCyto |
Version: 1.21.3 |
Command: chmod a+r openCyto -R && C:\Users\biocbuild\bbs-3.9-bioc\R\bin\R.exe CMD build --keep-empty-dirs --no-resave-data openCyto |
StartedAt: 2019-04-08 22:05:40 -0400 (Mon, 08 Apr 2019) |
EndedAt: 2019-04-08 22:23:18 -0400 (Mon, 08 Apr 2019) |
EllapsedTime: 1057.8 seconds |
RetCode: 0 |
Status: OK |
PackageFile: openCyto_1.21.3.tar.gz |
PackageFileSize: 1008 KiB |
############################################################################## ############################################################################## ### ### Running command: ### ### chmod a+r openCyto -R && C:\Users\biocbuild\bbs-3.9-bioc\R\bin\R.exe CMD build --keep-empty-dirs --no-resave-data openCyto ### ############################################################################## ############################################################################## * checking for file 'openCyto/DESCRIPTION' ... OK * preparing 'openCyto': * checking DESCRIPTION meta-information ... OK * cleaning src * installing the package to build vignettes * creating vignettes ... OK * cleaning src * checking for LF line-endings in source and make files and shell scripts * checking for empty or unneeded directories * building 'openCyto_1.21.3.tar.gz'