Back to Multiple platform build/check report for BioC 3.9 |
|
This page was generated on 2019-04-09 11:53:57 -0400 (Tue, 09 Apr 2019).
Package 678/1703 | Hostname | OS / Arch | INSTALL | BUILD | CHECK | BUILD BIN | ||||||
globaltest 5.37.1 Jelle Goeman
| malbec2 | Linux (Ubuntu 18.04.2 LTS) / x86_64 | OK | OK | OK | |||||||
tokay2 | Windows Server 2012 R2 Standard / x64 | [ OK ] | OK | OK | OK | |||||||
celaya2 | OS X 10.11.6 El Capitan / x86_64 | OK | OK | OK | OK | |||||||
merida2 | OS X 10.11.6 El Capitan / x86_64 | OK | OK | OK | OK |
Package: globaltest |
Version: 5.37.1 |
Command: C:\cygwin\bin\curl.exe -O https://malbec2.bioconductor.org/BBS/3.9/bioc/src/contrib/globaltest_5.37.1.tar.gz && rm -rf globaltest.buildbin-libdir && mkdir globaltest.buildbin-libdir && C:\Users\biocbuild\bbs-3.9-bioc\R\bin\R.exe CMD INSTALL --merge-multiarch --build --library=globaltest.buildbin-libdir globaltest_5.37.1.tar.gz && C:\Users\biocbuild\bbs-3.9-bioc\R\bin\R.exe CMD INSTALL globaltest_5.37.1.zip && rm globaltest_5.37.1.tar.gz globaltest_5.37.1.zip |
StartedAt: 2019-04-08 18:45:41 -0400 (Mon, 08 Apr 2019) |
EndedAt: 2019-04-08 18:46:24 -0400 (Mon, 08 Apr 2019) |
EllapsedTime: 42.6 seconds |
RetCode: 0 |
Status: OK |
############################################################################## ############################################################################## ### ### Running command: ### ### C:\cygwin\bin\curl.exe -O https://malbec2.bioconductor.org/BBS/3.9/bioc/src/contrib/globaltest_5.37.1.tar.gz && rm -rf globaltest.buildbin-libdir && mkdir globaltest.buildbin-libdir && C:\Users\biocbuild\bbs-3.9-bioc\R\bin\R.exe CMD INSTALL --merge-multiarch --build --library=globaltest.buildbin-libdir globaltest_5.37.1.tar.gz && C:\Users\biocbuild\bbs-3.9-bioc\R\bin\R.exe CMD INSTALL globaltest_5.37.1.zip && rm globaltest_5.37.1.tar.gz globaltest_5.37.1.zip ### ############################################################################## ############################################################################## % Total % Received % Xferd Average Speed Time Time Time Current Dload Upload Total Spent Left Speed 0 0 0 0 0 0 0 0 --:--:-- --:--:-- --:--:-- 0 100 97476 100 97476 0 0 1619k 0 --:--:-- --:--:-- --:--:-- 1830k install for i386 * installing *source* package 'globaltest' ... ** R ** inst ** byte-compile and prepare package for lazy loading ** help *** installing help indices converting help for package 'globaltest' finding HTML links ... done comparative html diagnostics html genesettesting html goodnessoffit html gt html gt.object-class html gtoptions html mlogit html multtest html ** building package indices ** installing vignettes ** testing if installed package can be loaded from temporary location ** testing if installed package can be loaded from final location ** testing if installed package keeps a record of temporary installation path install for x64 * installing *source* package 'globaltest' ... ** testing if installed package can be loaded * MD5 sums packaged installation of 'globaltest' as globaltest_5.37.1.zip * DONE (globaltest) * installing to library 'C:/Users/biocbuild/bbs-3.9-bioc/R/library' package 'globaltest' successfully unpacked and MD5 sums checked