Back to Multiple platform build/check report for BioC 3.8 |
|
This page was generated on 2019-04-13 11:22:42 -0400 (Sat, 13 Apr 2019).
Package 390/1649 | Hostname | OS / Arch | INSTALL | BUILD | CHECK | BUILD BIN | ||||||
deltaGseg 1.22.0 Diana Low
| malbec1 | Linux (Ubuntu 16.04.6 LTS) / x86_64 | OK | OK | OK | |||||||
tokay1 | Windows Server 2012 R2 Standard / x64 | [ OK ] | OK | OK | OK | |||||||
merida1 | OS X 10.11.6 El Capitan / x86_64 | OK | OK | OK | OK |
Package: deltaGseg |
Version: 1.22.0 |
Command: C:\Users\biocbuild\bbs-3.8-bioc\R\bin\R.exe --arch x64 CMD INSTALL --no-multiarch deltaGseg |
StartedAt: 2019-04-12 19:24:51 -0400 (Fri, 12 Apr 2019) |
EndedAt: 2019-04-12 19:27:35 -0400 (Fri, 12 Apr 2019) |
EllapsedTime: 163.9 seconds |
RetCode: 0 |
Status: OK |
############################################################################## ############################################################################## ### ### Running command: ### ### C:\Users\biocbuild\bbs-3.8-bioc\R\bin\R.exe --arch x64 CMD INSTALL --no-multiarch deltaGseg ### ############################################################################## ############################################################################## * installing to library 'C:/Users/biocbuild/bbs-3.8-bioc/R/library' * installing *source* package 'deltaGseg' ... ** R ** data ** inst ** byte-compile and prepare package for lazy loading ** help *** installing help indices converting help for package 'deltaGseg' finding HTML links ... done SegSeriesTrajectories-class html SegTrajectories-class html Trajectories-class html TransTrajectories-class html chooseBreaks-methods html chooseBreaks html clusterPV-methods html clusterPV html clusterSegments-methods html clusterSegments html deltaGseg-package html denoiseSegments-methods html denoiseSegments html diagnosticPlots-methods html diagnosticPlots html getAVD-methods html getAVD html getBreaks-methods html getBreaks html getIntervals-methods html getIntervals html getSegments-methods html getSegments html getTNames-methods html getTNames html getTraj-methods html getTraj html parseTraj html plot-methods html plotDiff-methods html plotDiff html pvals html finding level-2 HTML links ... done show-methods html simtraj html simtraj.tr html simtraj.tr2 html splitTraj-methods html splitTraj html traj1 html traj1.denoise html traj1.ss html traj1.tr html transformSeries-methods html transformSeries html ** building package indices ** installing vignettes 'deltaGseg.Rnw' ** testing if installed package can be loaded * DONE (deltaGseg) Making 'packages.html' ... done In R CMD INSTALL