Back to Multiple platform build/check report for BioC 3.6 |
|
This page was generated on 2018-04-12 13:21:16 -0400 (Thu, 12 Apr 2018).
Package 339/1472 | Hostname | OS / Arch | INSTALL | BUILD | CHECK | BUILD BIN | ||||||
DECIPHER 2.6.0 Erik Wright
| malbec1 | Linux (Ubuntu 16.04.1 LTS) / x86_64 | OK | OK | OK | |||||||
tokay1 | Windows Server 2012 R2 Standard / x64 | OK | OK | OK | [ OK ] | |||||||
veracruz1 | OS X 10.11.6 El Capitan / x86_64 | OK | OK | OK | OK |
Package: DECIPHER |
Version: 2.6.0 |
Command: cd DECIPHER.buildbin-libdir/DECIPHER && zip -r ../../DECIPHER_2.6.0.zip . & cd ../.. |
StartedAt: 2018-04-12 04:33:52 -0400 (Thu, 12 Apr 2018) |
EndedAt: 2018-04-12 04:34:33 -0400 (Thu, 12 Apr 2018) |
EllapsedTime: 41.3 seconds |
RetCode: 0 |
Status: OK |
PackageFile: DECIPHER_2.6.0.zip |
PackageFileSize: 22.78 MiB |
############################################################################## ############################################################################## ### ### Running command: ### ### cd DECIPHER.buildbin-libdir/DECIPHER && zip -r ../../DECIPHER_2.6.0.zip . & cd ../.. ### ############################################################################## ############################################################################## adding: CITATION (332 bytes security) (deflated 34%) adding: data/ (372 bytes security) (stored 0%) adding: data/datalist (332 bytes security) (deflated 22%) adding: data/deltaGrules.RData (332 bytes security) (stored 0%) adding: data/deltaHrules.RData (332 bytes security) (deflated 0%) adding: data/deltaSrules.RData (332 bytes security) (deflated 0%) adding: data/HEC_MI1.RData (332 bytes security) (stored 0%) adding: data/HEC_MI2.RData (332 bytes security) (deflated 0%) adding: data/MIQS.RData (332 bytes security) (stored 0%) adding: data/PFASUM.RData (332 bytes security) (deflated 16%) adding: data/RESTRICTION_ENZYMES.RData (332 bytes security) (stored 0%) adding: data/TrainingSet_16S.RData (332 bytes security) (deflated 0%) adding: DESCRIPTION (332 bytes security) (deflated 39%) adding: doc/ (372 bytes security) (stored 0%) adding: doc/ArtOfAlignmentInR.pdf (332 bytes security) (deflated 13%) adding: doc/ArtOfAlignmentInR.R (332 bytes security) (deflated 71%) adding: doc/ArtOfAlignmentInR.Rnw (332 bytes security) (deflated 66%) adding: doc/ClassifySequences.pdf (332 bytes security) (deflated 19%) adding: doc/ClassifySequences.R (332 bytes security) (deflated 73%) adding: doc/ClassifySequences.Rnw (332 bytes security) (deflated 65%) adding: doc/DECIPHERing.pdf (332 bytes security) (deflated 12%) adding: doc/DECIPHERing.R (332 bytes security) (deflated 72%) adding: doc/DECIPHERing.Rnw (332 bytes security) (deflated 66%) adding: doc/DesignMicroarray.pdf (332 bytes security) (deflated 44%) adding: doc/DesignMicroarray.R (332 bytes security) (deflated 74%) adding: doc/DesignMicroarray.Rnw (332 bytes security) (deflated 65%) adding: doc/DesignPrimers.pdf (332 bytes security) (deflated 9%) adding: doc/DesignPrimers.R (332 bytes security) (deflated 72%) adding: doc/DesignPrimers.Rnw (332 bytes security) (deflated 70%) adding: doc/DesignProbes.pdf (332 bytes security) (deflated 10%) adding: doc/DesignProbes.R (332 bytes security) (deflated 72%) adding: doc/DesignProbes.Rnw (332 bytes security) (deflated 70%) adding: doc/DesignSignatures.pdf (332 bytes security) (deflated 10%) adding: doc/DesignSignatures.R (332 bytes security) (deflated 78%) adding: doc/DesignSignatures.Rnw (332 bytes security) (deflated 69%) adding: doc/FindChimeras.pdf (332 bytes security) (deflated 9%) adding: doc/FindChimeras.R (332 bytes security) (deflated 69%) adding: doc/FindChimeras.Rnw (332 bytes security) (deflated 66%) adding: doc/index.html (332 bytes security) (deflated 82%) adding: extdata/ (372 bytes security) (stored 0%) adding: extdata/50S_ribosomal_protein_L2.fas (332 bytes security) (deflated 87%) adding: extdata/Bacteria_175seqs.fas (332 bytes security) (deflated 90%) adding: extdata/Bacteria_175seqs.gen (332 bytes security) (deflated 93%) adding: extdata/Bacteria_175seqs.sqlite (332 bytes security) (deflated 76%) adding: extdata/IDH2.fas (332 bytes security) (deflated 90%) adding: extdata/Influenza.sqlite (332 bytes security) (deflated 45%) adding: extdata/Streptomyces_ITS_aligned.fas (332 bytes security) (deflated 93%) adding: help/ (372 bytes security) (stored 0%) adding: help/aliases.rds (332 bytes security) (stored 0%) adding: help/AnIndex (332 bytes security) (deflated 64%) adding: help/DECIPHER.rdb (332 bytes security) (deflated 1%) adding: help/DECIPHER.rdx (332 bytes security) (stored 0%) adding: help/paths.rds (332 bytes security) (stored 0%) adding: html/ (372 bytes security) (stored 0%) adding: html/00Index.html (332 bytes security) (deflated 77%) adding: html/Add2DB.html (332 bytes security) (deflated 57%) adding: html/AdjustAlignment.html (332 bytes security) (deflated 65%) adding: html/AlignDB.html (332 bytes security) (deflated 68%) adding: html/AlignProfiles.html (332 bytes security) (deflated 68%) adding: html/AlignSeqs.html (332 bytes security) (deflated 67%) adding: html/AlignSynteny.html (332 bytes security) (deflated 60%) adding: html/AlignTranslation.html (332 bytes security) (deflated 64%) adding: html/AmplifyDNA.html (332 bytes security) (deflated 65%) adding: html/Array2Matrix.html (332 bytes security) (deflated 58%) adding: html/BrowseDB.html (332 bytes security) (deflated 60%) adding: html/BrowseSeqs.html (332 bytes security) (deflated 64%) adding: html/CalculateEfficiencyArray.html (332 bytes security) (deflated 61%) adding: html/CalculateEfficiencyFISH.html (332 bytes security) (deflated 60%) adding: html/CalculateEfficiencyPCR.html (332 bytes security) (deflated 62%) adding: html/Codec.html (332 bytes security) (deflated 61%) adding: html/ConsensusSequence.html (332 bytes security) (deflated 68%) adding: html/CorrectFrameshifts.html (332 bytes security) (deflated 67%) adding: html/CreateChimeras.html (332 bytes security) (deflated 65%) adding: html/DB2Seqs.html (332 bytes security) (deflated 67%) adding: html/DECIPHER-package.html (332 bytes security) (deflated 65%) adding: html/deltaGrules.html (332 bytes security) (deflated 59%) adding: html/deltaHrules.html (332 bytes security) (deflated 59%) adding: html/deltaSrules.html (332 bytes security) (deflated 59%) adding: html/DesignArray.html (332 bytes security) (deflated 66%) adding: html/DesignPrimers.html (332 bytes security) (deflated 69%) adding: html/DesignProbes.html (332 bytes security) (deflated 65%) adding: html/DesignSignatures.html (332 bytes security) (deflated 71%) adding: html/DigestDNA.html (332 bytes security) (deflated 62%) adding: html/Disambiguate.html (332 bytes security) (deflated 56%) adding: html/DistanceMatrix.html (332 bytes security) (deflated 66%) adding: html/FindChimeras.html (332 bytes security) (deflated 68%) adding: html/FindSynteny.html (332 bytes security) (deflated 65%) adding: html/FormGroups.html (332 bytes security) (deflated 60%) adding: html/HEC_MI.html (332 bytes security) (deflated 58%) adding: html/IdClusters.html (332 bytes security) (deflated 65%) adding: html/IdConsensus.html (332 bytes security) (deflated 63%) adding: html/IdentifyByRank.html (332 bytes security) (deflated 60%) adding: html/IdLengths.html (332 bytes security) (deflated 60%) adding: html/IdTaxa.html (332 bytes security) (deflated 65%) adding: html/LearnTaxa.html (332 bytes security) (deflated 69%) adding: html/MaskAlignment.html (332 bytes security) (deflated 64%) adding: html/MeltDNA.html (332 bytes security) (deflated 60%) adding: html/MIQS.html (332 bytes security) (deflated 48%) adding: html/MODELS.html (332 bytes security) (deflated 58%) adding: html/NNLS.html (332 bytes security) (deflated 58%) adding: html/OrientNucleotides.html (332 bytes security) (deflated 64%) adding: html/PFASUM.html (332 bytes security) (deflated 50%) adding: html/PredictDBN.html (332 bytes security) (deflated 64%) adding: html/PredictHEC.html (332 bytes security) (deflated 61%) adding: html/R.css (332 bytes security) (deflated 75%) adding: html/ReadDendrogram.html (332 bytes security) (deflated 57%) adding: html/RemoveGaps.html (332 bytes security) (deflated 59%) adding: html/RESTRICTION_ENZYMES.html (332 bytes security) (deflated 48%) adding: html/SearchDB.html (332 bytes security) (deflated 67%) adding: html/Seqs2DB.html (332 bytes security) (deflated 64%) adding: html/StaggerAlignment.html (332 bytes security) (deflated 61%) adding: html/Synteny-class.html (332 bytes security) (deflated 66%) adding: html/Taxa-class.html (332 bytes security) (deflated 60%) adding: html/TerminalChar.html (332 bytes security) (deflated 54%) adding: html/TileSeqs.html (332 bytes security) (deflated 63%) adding: html/TrainingSet_16S.html (332 bytes security) (deflated 51%) adding: html/TrimDNA.html (332 bytes security) (deflated 70%) adding: html/WriteDendrogram.html (332 bytes security) (deflated 60%) adding: INDEX (332 bytes security) (deflated 67%) adding: libs/ (372 bytes security) (stored 0%) adding: libs/i386/ (372 bytes security) (stored 0%) adding: libs/i386/DECIPHER.dll (332 bytes security) (deflated 53%) adding: libs/x64/ (372 bytes security) (stored 0%) adding: libs/x64/DECIPHER.dll (332 bytes security) (deflated 51%) adding: MD5 (332 bytes security) (deflated 49%) adding: Meta/ (372 bytes security) (stored 0%) adding: Meta/data.rds (332 bytes security) (stored 0%) adding: Meta/features.rds (332 bytes security) (stored 0%) adding: Meta/hsearch.rds (332 bytes security) (stored 0%) adding: Meta/links.rds (332 bytes security) (stored 0%) adding: Meta/nsInfo.rds (332 bytes security) (stored 0%) adding: Meta/package.rds (332 bytes security) (stored 0%) adding: Meta/Rd.rds (332 bytes security) (stored 0%) adding: Meta/vignette.rds (332 bytes security) (stored 0%) adding: NAMESPACE (332 bytes security) (deflated 52%) adding: R/ (372 bytes security) (stored 0%) adding: R/DECIPHER (332 bytes security) (deflated 41%) adding: R/DECIPHER.rdb (332 bytes security) (deflated 0%) adding: R/DECIPHER.rdx (332 bytes security) (stored 0%)