pathview 1.10.1 Weijun Luo
Snapshot Date: 2016-04-22 16:20:12 -0700 (Fri, 22 Apr 2016) | URL: https://hedgehog.fhcrc.org/bioconductor/branches/RELEASE_3_2/madman/Rpacks/pathview | Last Changed Rev: 110216 / Revision: 116712 | Last Changed Date: 2015-11-02 09:00:30 -0800 (Mon, 02 Nov 2015) |
| zin1 | Linux (Ubuntu 14.04.2 LTS) / x86_64 | OK | ERROR | skipped | | |
moscato1 | Windows Server 2008 R2 Standard (64-bit) / x64 | [ OK ] | ERROR | skipped | skipped | |
oaxaca | Mac OS X Mavericks (10.9.5) / x86_64 | OK | TIMEOUT | skipped | skipped | |
##############################################################################
##############################################################################
###
### Running command:
###
### rm -rf pathview.buildbin-libdir && mkdir pathview.buildbin-libdir && C:\cygwin\bin\curl.exe -O http://zin1/BBS/3.2/bioc/src/contrib/pathview_1.10.1.tar.gz && D:\biocbld\bbs-3.2-bioc\R\bin\R.exe CMD INSTALL --build --library=pathview.buildbin-libdir --merge-multiarch pathview_1.10.1.tar.gz && D:\biocbld\bbs-3.2-bioc\R\bin\R.exe CMD INSTALL pathview_1.10.1.zip && rm pathview_1.10.1.tar.gz pathview_1.10.1.zip
###
##############################################################################
##############################################################################
% Total % Received % Xferd Average Speed Time Time Time Current
Dload Upload Total Spent Left Speed
0 0 0 0 0 0 0 0 --:--:-- --:--:-- --:--:-- 0
100 1969k 100 1969k 0 0 56.6M 0 --:--:-- --:--:-- --:--:-- 64.0M
install for i386
* installing *source* package 'pathview' ...
** R
** data
** inst
** preparing package for lazy loading
** help
*** installing help indices
** building package indices
** installing vignettes
** testing if installed package can be loaded
install for x64
* installing *source* package 'pathview' ...
** testing if installed package can be loaded
* MD5 sums
packaged installation of 'pathview' as pathview_1.10.1.zip
* DONE (pathview)
* installing to library 'D:/biocbld/bbs-3.2-bioc/R/library'
package 'pathview' successfully unpacked and MD5 sums checked