Back to Multiple platform build/check report for BioC 3.19:   simplified   long
ABCDEFGHIJKLMN[O]PQRSTUVWXYZ

This page was generated on 2024-05-21 11:38:17 -0400 (Tue, 21 May 2024).

HostnameOSArch (*)R versionInstalled pkgs
nebbiolo1Linux (Ubuntu 22.04.3 LTS)x86_644.4.0 (2024-04-24) -- "Puppy Cup" 4751
palomino3Windows Server 2022 Datacenterx644.4.0 (2024-04-24 ucrt) -- "Puppy Cup" 4485
lconwaymacOS 12.7.1 Montereyx86_644.4.0 (2024-04-24) -- "Puppy Cup" 4515
Click on any hostname to see more info about the system (e.g. compilers)      (*) as reported by 'uname -p', except on Windows and Mac OS X

Package 1491/2300HostnameOS / ArchINSTALLBUILDCHECKBUILD BIN
orthos 1.2.0  (landing page)
Panagiotis Papasaikas
Snapshot Date: 2024-05-20 14:00:15 -0400 (Mon, 20 May 2024)
git_url: https://git.bioconductor.org/packages/orthos
git_branch: RELEASE_3_19
git_last_commit: be4a83b
git_last_commit_date: 2024-04-30 11:50:32 -0400 (Tue, 30 Apr 2024)
nebbiolo1Linux (Ubuntu 22.04.3 LTS) / x86_64  OK    OK    OK  UNNEEDED, same version is already published
palomino3Windows Server 2022 Datacenter / x64  OK    OK    OK    OK  UNNEEDED, same version is already published
lconwaymacOS 12.7.1 Monterey / x86_64  OK    OK    OK    OK  UNNEEDED, same version is already published
kjohnson3macOS 13.6.5 Ventura / arm64see weekly results here

CHECK results for orthos on lconway


To the developers/maintainers of the orthos package:
- Allow up to 24 hours (and sometimes 48 hours) for your latest push to git@git.bioconductor.org:packages/orthos.git to reflect on this report. See Troubleshooting Build Report for more information.
- Use the following Renviron settings to reproduce errors and warnings.
- If 'R CMD check' started to fail recently on the Linux builder(s) over a missing dependency, add the missing dependency to 'Suggests:' in your DESCRIPTION file. See Renviron.bioc for more information.

raw results


Summary

Package: orthos
Version: 1.2.0
Command: /Library/Frameworks/R.framework/Resources/bin/R CMD check --install=check:orthos.install-out.txt --library=/Library/Frameworks/R.framework/Resources/library --no-vignettes --timings orthos_1.2.0.tar.gz
StartedAt: 2024-05-20 22:43:14 -0400 (Mon, 20 May 2024)
EndedAt: 2024-05-20 22:57:06 -0400 (Mon, 20 May 2024)
EllapsedTime: 831.3 seconds
RetCode: 0
Status:   OK  
CheckDir: orthos.Rcheck
Warnings: 0

Command output

##############################################################################
##############################################################################
###
### Running command:
###
###   /Library/Frameworks/R.framework/Resources/bin/R CMD check --install=check:orthos.install-out.txt --library=/Library/Frameworks/R.framework/Resources/library --no-vignettes --timings orthos_1.2.0.tar.gz
###
##############################################################################
##############################################################################


* using log directory ‘/Users/biocbuild/bbs-3.19-bioc/meat/orthos.Rcheck’
* using R version 4.4.0 (2024-04-24)
* using platform: x86_64-apple-darwin20
* R was compiled by
    Apple clang version 14.0.0 (clang-1400.0.29.202)
    GNU Fortran (GCC) 12.2.0
* running under: macOS Monterey 12.7.1
* using session charset: UTF-8
* using option ‘--no-vignettes’
* checking for file ‘orthos/DESCRIPTION’ ... OK
* checking extension type ... Package
* this is package ‘orthos’ version ‘1.2.0’
* package encoding: UTF-8
* checking package namespace information ... OK
* checking package dependencies ... OK
* checking if this is a source package ... OK
* checking if there is a namespace ... OK
* checking for hidden files and directories ... OK
* checking for portable file names ... OK
* checking for sufficient/correct file permissions ... OK
* checking whether package ‘orthos’ can be installed ... NOTE
Found the following notes/warnings:
  Non-staged installation was used
See ‘/Users/biocbuild/bbs-3.19-bioc/meat/orthos.Rcheck/00install.out’ for details.
* checking installed package size ... OK
* checking package directory ... OK
* checking ‘build’ directory ... OK
* checking DESCRIPTION meta-information ... OK
* checking top-level files ... OK
* checking for left-over files ... OK
* checking index information ... OK
* checking package subdirectories ... OK
* checking code files for non-ASCII characters ... OK
* checking R files for syntax errors ... OK
* checking whether the package can be loaded ... OK
* checking whether the package can be loaded with stated dependencies ... OK
* checking whether the package can be unloaded cleanly ... OK
* checking whether the namespace can be loaded with stated dependencies ... OK
* checking whether the namespace can be unloaded cleanly ... OK
* checking dependencies in R code ... OK
* checking S3 generic/method consistency ... OK
* checking replacement functions ... OK
* checking foreign function calls ... OK
* checking R code for possible problems ... OK
* checking Rd files ... OK
* checking Rd metadata ... OK
* checking Rd cross-references ... OK
* checking for missing documentation entries ... OK
* checking for code/documentation mismatches ... OK
* checking Rd \usage sections ... OK
* checking Rd contents ... OK
* checking for unstated dependencies in examples ... OK
* checking line endings in shell scripts ... OK
* checking files in ‘vignettes’ ... OK
* checking examples ... OK
Examples with CPU (user + system) or elapsed time > 5s
                         user system elapsed
decomposeVar           40.366 31.798 104.615
plotQueryResultsViolin 39.636 26.557  45.598
queryWithContrasts     38.274 22.721  41.216
plotQueryResultsManh   41.425 13.269  44.460
loadContrastDatabase    4.961  0.451  10.204
* checking for unstated dependencies in ‘tests’ ... OK
* checking tests ...
  Running ‘testthat.R’
 OK
* checking for unstated dependencies in vignettes ... OK
* checking package vignettes ... OK
* checking running R code from vignettes ... SKIPPED
* checking re-building of vignette outputs ... SKIPPED
* checking PDF version of manual ... OK
* DONE

Status: 1 NOTE
See
  ‘/Users/biocbuild/bbs-3.19-bioc/meat/orthos.Rcheck/00check.log’
for details.


Installation output

orthos.Rcheck/00install.out

##############################################################################
##############################################################################
###
### Running command:
###
###   /Library/Frameworks/R.framework/Resources/bin/R CMD INSTALL orthos
###
##############################################################################
##############################################################################


* installing to library ‘/Library/Frameworks/R.framework/Versions/4.4-x86_64/Resources/library’
* installing *source* package ‘orthos’ ...
** using non-staged installation via StagedInstall field
** R
** inst
** byte-compile and prepare package for lazy loading
** help
*** installing help indices
** building package indices
** installing vignettes
** testing if installed package can be loaded
* DONE (orthos)

Tests output

orthos.Rcheck/tests/testthat.Rout


R version 4.4.0 (2024-04-24) -- "Puppy Cup"
Copyright (C) 2024 The R Foundation for Statistical Computing
Platform: x86_64-apple-darwin20

R is free software and comes with ABSOLUTELY NO WARRANTY.
You are welcome to redistribute it under certain conditions.
Type 'license()' or 'licence()' for distribution details.

R is a collaborative project with many contributors.
Type 'contributors()' for more information and
'citation()' on how to cite R or R packages in publications.

Type 'demo()' for some demos, 'help()' for on-line help, or
'help.start()' for an HTML browser interface to help.
Type 'q()' to quit R.

> # This file is part of the standard setup for testthat.
> # It is recommended that you do not modify it.
> #
> # Where should you do additional test configuration?
> # Learn more about the roles of various files in:
> # * https://r-pkgs.org/tests.html
> # * https://testthat.r-lib.org/reference/test_package.html#special-files
> 
> library(testthat)
> library(orthos)
Loading required package: SummarizedExperiment
Loading required package: MatrixGenerics
Loading required package: matrixStats

Attaching package: 'MatrixGenerics'

The following objects are masked from 'package:matrixStats':

    colAlls, colAnyNAs, colAnys, colAvgsPerRowSet, colCollapse,
    colCounts, colCummaxs, colCummins, colCumprods, colCumsums,
    colDiffs, colIQRDiffs, colIQRs, colLogSumExps, colMadDiffs,
    colMads, colMaxs, colMeans2, colMedians, colMins, colOrderStats,
    colProds, colQuantiles, colRanges, colRanks, colSdDiffs, colSds,
    colSums2, colTabulates, colVarDiffs, colVars, colWeightedMads,
    colWeightedMeans, colWeightedMedians, colWeightedSds,
    colWeightedVars, rowAlls, rowAnyNAs, rowAnys, rowAvgsPerColSet,
    rowCollapse, rowCounts, rowCummaxs, rowCummins, rowCumprods,
    rowCumsums, rowDiffs, rowIQRDiffs, rowIQRs, rowLogSumExps,
    rowMadDiffs, rowMads, rowMaxs, rowMeans2, rowMedians, rowMins,
    rowOrderStats, rowProds, rowQuantiles, rowRanges, rowRanks,
    rowSdDiffs, rowSds, rowSums2, rowTabulates, rowVarDiffs, rowVars,
    rowWeightedMads, rowWeightedMeans, rowWeightedMedians,
    rowWeightedSds, rowWeightedVars

Loading required package: GenomicRanges
Loading required package: stats4
Loading required package: BiocGenerics

Attaching package: 'BiocGenerics'

The following objects are masked from 'package:stats':

    IQR, mad, sd, var, xtabs

The following objects are masked from 'package:base':

    Filter, Find, Map, Position, Reduce, anyDuplicated, aperm, append,
    as.data.frame, basename, cbind, colnames, dirname, do.call,
    duplicated, eval, evalq, get, grep, grepl, intersect, is.unsorted,
    lapply, mapply, match, mget, order, paste, pmax, pmax.int, pmin,
    pmin.int, rank, rbind, rownames, sapply, setdiff, table, tapply,
    union, unique, unsplit, which.max, which.min

Loading required package: S4Vectors

Attaching package: 'S4Vectors'

The following object is masked from 'package:utils':

    findMatches

The following objects are masked from 'package:base':

    I, expand.grid, unname

Loading required package: IRanges
Loading required package: GenomeInfoDb
Loading required package: Biobase
Welcome to Bioconductor

    Vignettes contain introductory material; view with
    'browseVignettes()'. To cite Bioconductor, see
    'citation("Biobase")', and for packages 'citation("pkgname")'.


Attaching package: 'Biobase'

The following object is masked from 'package:MatrixGenerics':

    rowMedians

The following objects are masked from 'package:matrixStats':

    anyMissing, rowMedians

> 
> test_check("orthos")
demo_decomposed_contrasts_mouse_rds  already present in cache at: /Users/biocbuild/Library/Caches/org.R-project.R/R/ExperimentHub/mouse_v212_NDF_c100_DEMOse.rds
demo_decomposed_contrasts_mouse_hdf5  already present in cache at: /Users/biocbuild/Library/Caches/org.R-project.R/R/ExperimentHub/mouse_v212_NDF_c100_DEMOassays.h5
demo_decomposed_contrasts_human_rds  already present in cache at: /Users/biocbuild/Library/Caches/org.R-project.R/R/ExperimentHub/human_v212_NDF_c100_DEMOse.rds
demo_decomposed_contrasts_human_hdf5  already present in cache at: /Users/biocbuild/Library/Caches/org.R-project.R/R/ExperimentHub/human_v212_NDF_c100_DEMOassays.h5
demo_decomposed_contrasts_mouse_rds  already present in cache at: /Users/biocbuild/Library/Caches/org.R-project.R/R/ExperimentHub/mouse_v212_NDF_c100_DEMOse.rds
demo_decomposed_contrasts_mouse_hdf5  already present in cache at: /Users/biocbuild/Library/Caches/org.R-project.R/R/ExperimentHub/mouse_v212_NDF_c100_DEMOassays.h5
demo_decomposed_contrasts_human_rds  already present in cache at: /Users/biocbuild/Library/Caches/org.R-project.R/R/ExperimentHub/human_v212_NDF_c100_DEMOse.rds
demo_decomposed_contrasts_human_hdf5  already present in cache at: /Users/biocbuild/Library/Caches/org.R-project.R/R/ExperimentHub/human_v212_NDF_c100_DEMOassays.h5
demo_decomposed_contrasts_mouse_rds  already present in cache at: /Users/biocbuild/Library/Caches/org.R-project.R/R/ExperimentHub/mouse_v212_NDF_c100_DEMOse.rds
demo_decomposed_contrasts_mouse_hdf5  already present in cache at: /Users/biocbuild/Library/Caches/org.R-project.R/R/ExperimentHub/mouse_v212_NDF_c100_DEMOassays.h5
demo_decomposed_contrasts_human_rds  already present in cache at: /Users/biocbuild/Library/Caches/org.R-project.R/R/ExperimentHub/human_v212_NDF_c100_DEMOse.rds
demo_decomposed_contrasts_human_hdf5  already present in cache at: /Users/biocbuild/Library/Caches/org.R-project.R/R/ExperimentHub/human_v212_NDF_c100_DEMOassays.h5
2024-05-20 22:53:41.938847: I tensorflow/core/platform/cpu_feature_guard.cc:193] This TensorFlow binary is optimized with oneAPI Deep Neural Network Library (oneDNN) to use the following CPU instructions in performance-critical operations:  SSE4.1 SSE4.2 AVX AVX2 AVX512F AVX512_VNNI FMA
To enable them in other operations, rebuild TensorFlow with the appropriate compiler flags.
see ?orthosData and browseVignettes('orthosData') for documentation
loading from cache
require("keras")
2024-05-20 22:53:54.206665: I tensorflow/core/platform/cpu_feature_guard.cc:193] This TensorFlow binary is optimized with oneAPI Deep Neural Network Library (oneDNN) to use the following CPU instructions in performance-critical operations:  SSE4.1 SSE4.2 AVX AVX2 AVX512F AVX512_VNNI FMA
To enable them in other operations, rebuild TensorFlow with the appropriate compiler flags.
WARNING:tensorflow:No training configuration found in the save file, so the model was *not* compiled. Compile it manually.

1/1 [==============================] - ETA: 0s
1/1 [==============================] - 0s 186ms/step
see ?orthosData and browseVignettes('orthosData') for documentation
loading from cache
WARNING:tensorflow:No training configuration found in the save file, so the model was *not* compiled. Compile it manually.
see ?orthosData and browseVignettes('orthosData') for documentation
loading from cache
WARNING:tensorflow:No training configuration found in the save file, so the model was *not* compiled. Compile it manually.

1/1 [==============================] - ETA: 0s
1/1 [==============================] - 0s 88ms/step

1/1 [==============================] - ETA: 0s
1/1 [==============================] - 0s 82ms/step
see ?orthosData and browseVignettes('orthosData') for documentation
loading from cache
WARNING:tensorflow:No training configuration found in the save file, so the model was *not* compiled. Compile it manually.

1/1 [==============================] - ETA: 0s
1/1 [==============================] - 0s 77ms/step
see ?orthosData and browseVignettes('orthosData') for documentation
loading from cache
WARNING:tensorflow:No training configuration found in the save file, so the model was *not* compiled. Compile it manually.
see ?orthosData and browseVignettes('orthosData') for documentation
loading from cache
WARNING:tensorflow:No training configuration found in the save file, so the model was *not* compiled. Compile it manually.
WARNING:tensorflow:5 out of the last 5 calls to <function Model.make_predict_function.<locals>.predict_function at 0x7ff22054d5e0> triggered tf.function retracing. Tracing is expensive and the excessive number of tracings could be due to (1) creating @tf.function repeatedly in a loop, (2) passing tensors with different shapes, (3) passing Python objects instead of tensors. For (1), please define your @tf.function outside of the loop. For (2), @tf.function has reduce_retracing=True option that can avoid unnecessary retracing. For (3), please refer to https://www.tensorflow.org/guide/function#controlling_retracing and https://www.tensorflow.org/api_docs/python/tf/function for  more details.

1/1 [==============================] - ETA: 0s
1/1 [==============================] - 0s 89ms/step
WARNING:tensorflow:6 out of the last 6 calls to <function Model.make_predict_function.<locals>.predict_function at 0x7ff22054d940> triggered tf.function retracing. Tracing is expensive and the excessive number of tracings could be due to (1) creating @tf.function repeatedly in a loop, (2) passing tensors with different shapes, (3) passing Python objects instead of tensors. For (1), please define your @tf.function outside of the loop. For (2), @tf.function has reduce_retracing=True option that can avoid unnecessary retracing. For (3), please refer to https://www.tensorflow.org/guide/function#controlling_retracing and https://www.tensorflow.org/api_docs/python/tf/function for  more details.

1/1 [==============================] - ETA: 0s
1/1 [==============================] - 0s 79ms/step
Checking input...
demo_decomposed_contrasts_human_rds  already present in cache at: /Users/biocbuild/Library/Caches/org.R-project.R/R/ExperimentHub/human_v212_NDF_c100_DEMOse.rds
demo_decomposed_contrasts_human_hdf5  already present in cache at: /Users/biocbuild/Library/Caches/org.R-project.R/R/ExperimentHub/human_v212_NDF_c100_DEMOassays.h5
Detecting feature ids-type...
Feature ids-type detected: GENE_SYMBOL
18051/18051 provided input features mapped against a total of 20411 model features.
2360 missing features will be set to 0.
--> Missing features corresponding to non/lowly expressed genes in your context(s) are of no consequence.
--> The model is robust to small fractions (<10%) of missing genes that are expressed in your context(s).
--> Increased numbers of missing expressed genes in your input might result in model performance decline.
Preparing input...
Encoding context...
see ?orthosData and browseVignettes('orthosData') for documentation
loading from cache
WARNING:tensorflow:No training configuration found in the save file, so the model was *not* compiled. Compile it manually.

1/1 [==============================] - ETA: 0s
1/1 [==============================] - 0s 77ms/step
Encoding and decoding contrasts...
see ?orthosData and browseVignettes('orthosData') for documentation
loading from cache
WARNING:tensorflow:No training configuration found in the save file, so the model was *not* compiled. Compile it manually.
see ?orthosData and browseVignettes('orthosData') for documentation
loading from cache
WARNING:tensorflow:No training configuration found in the save file, so the model was *not* compiled. Compile it manually.

1/1 [==============================] - ETA: 0s
1/1 [==============================] - 0s 80ms/step

1/1 [==============================] - ETA: 0s
1/1 [==============================] - 0s 75ms/step
Preparing output...
Done!
Checking input...
demo_decomposed_contrasts_mouse_rds  already present in cache at: /Users/biocbuild/Library/Caches/org.R-project.R/R/ExperimentHub/mouse_v212_NDF_c100_DEMOse.rds
demo_decomposed_contrasts_mouse_hdf5  already present in cache at: /Users/biocbuild/Library/Caches/org.R-project.R/R/ExperimentHub/mouse_v212_NDF_c100_DEMOassays.h5
Detecting feature ids-type...
Feature ids-type detected: GENE_SYMBOL
19774/19776 provided input features mapped against a total of 20339 model features.
565 missing features will be set to 0.
--> Missing features corresponding to non/lowly expressed genes in your context(s) are of no consequence.
--> The model is robust to small fractions (<10%) of missing genes that are expressed in your context(s).
--> Increased numbers of missing expressed genes in your input might result in model performance decline.
Preparing input...
Encoding context...
see ?orthosData and browseVignettes('orthosData') for documentation
loading from cache
WARNING:tensorflow:No training configuration found in the save file, so the model was *not* compiled. Compile it manually.

1/1 [==============================] - ETA: 0s
1/1 [==============================] - 0s 69ms/step
Encoding and decoding contrasts...
see ?orthosData and browseVignettes('orthosData') for documentation
loading from cache
WARNING:tensorflow:No training configuration found in the save file, so the model was *not* compiled. Compile it manually.
see ?orthosData and browseVignettes('orthosData') for documentation
loading from cache
WARNING:tensorflow:No training configuration found in the save file, so the model was *not* compiled. Compile it manually.

1/1 [==============================] - ETA: 0s
1/1 [==============================] - 0s 82ms/step

1/1 [==============================] - ETA: 0s
1/1 [==============================] - 0s 80ms/step
Preparing output...
Done!
2024-05-20 22:55:30.590 R[15754:1888412136] XType: com.apple.fonts is not accessible.
2024-05-20 22:55:30.590 R[15754:1888412136] XType: XTFontStaticRegistry is enabled.
demo_decomposed_contrasts_human_rds  already present in cache at: /Users/biocbuild/Library/Caches/org.R-project.R/R/ExperimentHub/human_v212_NDF_c100_DEMOse.rds
demo_decomposed_contrasts_human_hdf5  already present in cache at: /Users/biocbuild/Library/Caches/org.R-project.R/R/ExperimentHub/human_v212_NDF_c100_DEMOassays.h5
demo_decomposed_contrasts_mouse_rds  already present in cache at: /Users/biocbuild/Library/Caches/org.R-project.R/R/ExperimentHub/mouse_v212_NDF_c100_DEMOse.rds
demo_decomposed_contrasts_mouse_hdf5  already present in cache at: /Users/biocbuild/Library/Caches/org.R-project.R/R/ExperimentHub/mouse_v212_NDF_c100_DEMOassays.h5
demo_decomposed_contrasts_human_rds  already present in cache at: /Users/biocbuild/Library/Caches/org.R-project.R/R/ExperimentHub/human_v212_NDF_c100_DEMOse.rds
demo_decomposed_contrasts_human_hdf5  already present in cache at: /Users/biocbuild/Library/Caches/org.R-project.R/R/ExperimentHub/human_v212_NDF_c100_DEMOassays.h5
see ?orthosData and browseVignettes('orthosData') for documentation
loading from cache
WARNING:tensorflow:No training configuration found in the save file, so the model was *not* compiled. Compile it manually.

1/1 [==============================] - ETA: 0s
1/1 [==============================] - 0s 77ms/step
see ?orthosData and browseVignettes('orthosData') for documentation
loading from cache
WARNING:tensorflow:No training configuration found in the save file, so the model was *not* compiled. Compile it manually.
see ?orthosData and browseVignettes('orthosData') for documentation
loading from cache
WARNING:tensorflow:No training configuration found in the save file, so the model was *not* compiled. Compile it manually.

1/1 [==============================] - ETA: 0s
1/1 [==============================] - 0s 88ms/step

1/1 [==============================] - ETA: 0s
1/1 [==============================] - 0s 87ms/step
demo_decomposed_contrasts_human_rds  already present in cache at: /Users/biocbuild/Library/Caches/org.R-project.R/R/ExperimentHub/human_v212_NDF_c100_DEMOse.rds
demo_decomposed_contrasts_human_hdf5  already present in cache at: /Users/biocbuild/Library/Caches/org.R-project.R/R/ExperimentHub/human_v212_NDF_c100_DEMOassays.h5
provided contrast:  INPUT_CONTRASTS
provided contrast:  DECODED_CONTRASTS
provided contrast:  RESIDUAL_CONTRASTS
Loading contrast database...
demo_decomposed_contrasts_human_rds  already present in cache at: /Users/biocbuild/Library/Caches/org.R-project.R/R/ExperimentHub/human_v212_NDF_c100_DEMOse.rds
demo_decomposed_contrasts_human_hdf5  already present in cache at: /Users/biocbuild/Library/Caches/org.R-project.R/R/ExperimentHub/human_v212_NDF_c100_DEMOassays.h5
Thresholding genes...
Querying contrast database with INPUT_CONTRASTS...

  |                                                                            
  |                                                                      |   0%
  |                                                                            
  |===================================                                   |  50%
  |                                                                            
  |======================================================================| 100%

Querying contrast database with DECODED_CONTRASTS...

  |                                                                            
  |                                                                      |   0%
  |                                                                            
  |===================================                                   |  50%
  |                                                                            
  |======================================================================| 100%

Querying contrast database with RESIDUAL_CONTRASTS...

  |                                                                            
  |                                                                      |   0%
  |                                                                            
  |===================================                                   |  50%
  |                                                                            
  |======================================================================| 100%

Compiling query statistics...
Done!
[ FAIL 0 | WARN 2 | SKIP 1 | PASS 216 ]

══ Skipped tests (1) ═══════════════════════════════════════════════════════════
• cannot test `mustWork` when data is available (1): 'test-decomposeVar.R:66:5'

[ FAIL 0 | WARN 2 | SKIP 1 | PASS 216 ]
> 
> proc.time()
   user  system elapsed 
160.654  57.820 249.418 

Example timings

orthos.Rcheck/orthos-Ex.timings

nameusersystemelapsed
decomposeVar 40.366 31.798104.615
loadContrastDatabase 4.961 0.45110.204
plotQueryResultsManh41.42513.26944.460
plotQueryResultsViolin39.63626.55745.598
queryWithContrasts38.27422.72141.216
testOrthosEnv0.0060.0040.011