Index of /checkResults/3.19/bioc-LATEST/SARC/raw-results/palomino3

[ICO]NameLast modifiedSizeDescription

[DIR]Parent Directory  -  
[TXT]buildbin-out.txt23-May-2024 00:36 1.0K 
[   ]buildbin-summary.dcf23-May-2024 00:36 494  
[TXT]buildsrc-out.txt23-May-2024 00:36 883  
[   ]buildsrc-summary.dcf23-May-2024 00:36 439  
[TXT]checksrc-out.txt23-May-2024 00:36 5.6K 
[   ]checksrc-summary.dcf23-May-2024 00:36 433  
[TXT]install-out.txt23-May-2024 00:36 962  
[   ]install-summary.dcf23-May-2024 00:36 261