Index of /checkResults/3.19/bioc-LATEST/SARC/raw-results/palomino3

[ICO]NameLast modifiedSizeDescription

[DIR]Parent Directory  -  
[   ]install-summary.dcf15-Jun-2024 03:38 261  
[TXT]install-out.txt15-Jun-2024 03:38 962  
[   ]checksrc-summary.dcf15-Jun-2024 03:38 433  
[TXT]checksrc-out.txt15-Jun-2024 03:38 5.6K 
[   ]buildsrc-summary.dcf15-Jun-2024 03:38 439  
[TXT]buildsrc-out.txt15-Jun-2024 03:38 883  
[   ]buildbin-summary.dcf15-Jun-2024 03:38 495  
[TXT]buildbin-out.txt15-Jun-2024 03:38 1.0K