Back to Build/check report for BioC 3.18 experimental data
ABCDEFGHIJKLM[N]OPQRSTUVWXYZ

This page was generated on 2024-03-28 14:52:06 -0400 (Thu, 28 Mar 2024).

HostnameOSArch (*)R versionInstalled pkgs
nebbiolo2Linux (Ubuntu 22.04.3 LTS)x86_644.3.3 (2024-02-29) -- "Angel Food Cake" 4669
Click on any hostname to see more info about the system (e.g. compilers)      (*) as reported by 'uname -p', except on Windows and Mac OS X

Package 266/429HostnameOS / ArchINSTALLBUILDCHECK
nanotubes 1.18.0  (landing page)
Malte Thodberg
Snapshot Date: 2024-03-28 07:30:02 -0400 (Thu, 28 Mar 2024)
git_url: https://git.bioconductor.org/packages/nanotubes
git_branch: RELEASE_3_18
git_last_commit: e56bc09
git_last_commit_date: 2023-10-24 09:19:42 -0400 (Tue, 24 Oct 2023)
nebbiolo2Linux (Ubuntu 22.04.3 LTS) / x86_64  OK    OK    OK  UNNEEDED, same version is already published

CHECK results for nanotubes on nebbiolo2


To the developers/maintainers of the nanotubes package:
- Use the following Renviron settings to reproduce errors and warnings.
- If 'R CMD check' started to fail recently on the Linux builder(s) over a missing dependency, add the missing dependency to 'Suggests:' in your DESCRIPTION file. See Renviron.bioc for more information.

raw results


Summary

Package: nanotubes
Version: 1.18.0
Command: /home/biocbuild/bbs-3.18-bioc/R/bin/R CMD check --install=check:nanotubes.install-out.txt --library=/home/biocbuild/bbs-3.18-bioc/R/site-library --timings nanotubes_1.18.0.tar.gz
StartedAt: 2024-03-28 11:52:26 -0400 (Thu, 28 Mar 2024)
EndedAt: 2024-03-28 11:53:06 -0400 (Thu, 28 Mar 2024)
EllapsedTime: 39.7 seconds
RetCode: 0
Status:   OK  
CheckDir: nanotubes.Rcheck
Warnings: 0

Command output

##############################################################################
##############################################################################
###
### Running command:
###
###   /home/biocbuild/bbs-3.18-bioc/R/bin/R CMD check --install=check:nanotubes.install-out.txt --library=/home/biocbuild/bbs-3.18-bioc/R/site-library --timings nanotubes_1.18.0.tar.gz
###
##############################################################################
##############################################################################


* using log directory ‘/home/biocbuild/bbs-3.18-data-experiment/meat/nanotubes.Rcheck’
* using R version 4.3.3 (2024-02-29)
* using platform: x86_64-pc-linux-gnu (64-bit)
* R was compiled by
    gcc (Ubuntu 11.4.0-1ubuntu1~22.04) 11.4.0
    GNU Fortran (Ubuntu 11.4.0-1ubuntu1~22.04) 11.4.0
* running under: Ubuntu 22.04.4 LTS
* using session charset: UTF-8
* checking for file ‘nanotubes/DESCRIPTION’ ... OK
* checking extension type ... Package
* this is package ‘nanotubes’ version ‘1.18.0’
* package encoding: UTF-8
* checking package namespace information ... OK
* checking package dependencies ... OK
* checking if this is a source package ... OK
* checking if there is a namespace ... OK
* checking for hidden files and directories ... OK
* checking for portable file names ... OK
* checking for sufficient/correct file permissions ... OK
* checking whether package ‘nanotubes’ can be installed ... OK
* checking installed package size ... NOTE
  installed size is 120.8Mb
  sub-directories of 1Mb or more:
    extdata  120.7Mb
* checking package directory ... OK
* checking ‘build’ directory ... OK
* checking DESCRIPTION meta-information ... OK
* checking top-level files ... OK
* checking for left-over files ... OK
* checking index information ... OK
* checking package subdirectories ... OK
* checking R files for non-ASCII characters ... OK
* checking R files for syntax errors ... OK
* checking whether the package can be loaded ... OK
* checking whether the package can be loaded with stated dependencies ... OK
* checking whether the package can be unloaded cleanly ... OK
* checking whether the namespace can be loaded with stated dependencies ... OK
* checking whether the namespace can be unloaded cleanly ... OK
* checking loading without being on the library search path ... OK
* checking dependencies in R code ... OK
* checking S3 generic/method consistency ... OK
* checking replacement functions ... OK
* checking foreign function calls ... OK
* checking R code for possible problems ... OK
* checking Rd files ... OK
* checking Rd metadata ... OK
* checking Rd cross-references ... OK
* checking for missing documentation entries ... OK
* checking for code/documentation mismatches ... OK
* checking Rd \usage sections ... OK
* checking Rd contents ... OK
* checking for unstated dependencies in examples ... OK
* checking contents of ‘data’ directory ... OK
* checking data for non-ASCII characters ... OK
* checking data for ASCII and uncompressed saves ... OK
* checking files in ‘vignettes’ ... OK
* checking examples ... OK
Examples with CPU (user + system) or elapsed time > 5s
           user system elapsed
nanotubes 9.472  0.315   9.794
* checking for unstated dependencies in vignettes ... OK
* checking package vignettes in ‘inst/doc’ ... OK
* checking running R code from vignettes ...
  ‘nanotubes.Rmd’ using ‘UTF-8’... OK
 NONE
* checking re-building of vignette outputs ... OK
* checking PDF version of manual ... OK
* DONE

Status: 1 NOTE
See
  ‘/home/biocbuild/bbs-3.18-data-experiment/meat/nanotubes.Rcheck/00check.log’
for details.



Installation output

nanotubes.Rcheck/00install.out

##############################################################################
##############################################################################
###
### Running command:
###
###   /home/biocbuild/bbs-3.18-bioc/R/bin/R CMD INSTALL nanotubes
###
##############################################################################
##############################################################################


* installing to library ‘/home/biocbuild/bbs-3.18-bioc/R/site-library’
* installing *source* package ‘nanotubes’ ...
** using staged installation
** R
** data
** inst
** byte-compile and prepare package for lazy loading
** help
*** installing help indices
** building package indices
** installing vignettes
** testing if installed package can be loaded from temporary location
** testing if installed package can be loaded from final location
** testing if installed package keeps a record of temporary installation path
* DONE (nanotubes)

Tests output


Example timings

nanotubes.Rcheck/nanotubes-Ex.timings

nameusersystemelapsed
nanotubes9.4720.3159.794