Back to Build/check report for BioC 3.18 experimental data |
|
This page was generated on 2023-12-07 14:52:03 -0500 (Thu, 07 Dec 2023).
Hostname | OS | Arch (*) | R version | Installed pkgs |
---|---|---|---|---|
nebbiolo2 | Linux (Ubuntu 22.04.2 LTS) | x86_64 | 4.3.2 Patched (2023-11-13 r85521) -- "Eye Holes" | 4688 |
Click on any hostname to see more info about the system (e.g. compilers) (*) as reported by 'uname -p', except on Windows and Mac OS X |
Package 219/429 | Hostname | OS / Arch | INSTALL | BUILD | CHECK | ||||||||
mammaPrintData 1.38.0 (landing page) Luigi Marchionni
| nebbiolo2 | Linux (Ubuntu 22.04.2 LTS) / x86_64 | OK | OK | OK | ![]() | |||||||
To the developers/maintainers of the mammaPrintData package: - Use the following Renviron settings to reproduce errors and warnings. - If 'R CMD check' started to fail recently on the Linux builder(s) over a missing dependency, add the missing dependency to 'Suggests:' in your DESCRIPTION file. See Renviron.bioc for more information. |
Package: mammaPrintData |
Version: 1.38.0 |
Command: /home/biocbuild/bbs-3.18-bioc/R/bin/R CMD build --keep-empty-dirs --no-resave-data mammaPrintData |
StartedAt: 2023-12-07 10:38:12 -0500 (Thu, 07 Dec 2023) |
EndedAt: 2023-12-07 10:39:24 -0500 (Thu, 07 Dec 2023) |
EllapsedTime: 71.4 seconds |
RetCode: 0 |
Status: OK |
PackageFile: mammaPrintData_1.38.0.tar.gz |
PackageFileSize: 214.1 MiB |
############################################################################## ############################################################################## ### ### Running command: ### ### /home/biocbuild/bbs-3.18-bioc/R/bin/R CMD build --keep-empty-dirs --no-resave-data mammaPrintData ### ############################################################################## ############################################################################## * checking for file ‘mammaPrintData/DESCRIPTION’ ... OK * preparing ‘mammaPrintData’: * checking DESCRIPTION meta-information ... OK * checking whether ‘INDEX’ is up-to-date ... NO * use ‘--force’ to remove the existing ‘INDEX’ * installing the package to build vignettes * creating vignettes ... OK * checking for LF line-endings in source and make files and shell scripts * checking for empty or unneeded directories * looking to see if a ‘data/datalist’ file should be added * building ‘mammaPrintData_1.38.0.tar.gz’