Back to Build/check report for BioC 3.18 experimental data
ABCDEFG[H]IJKLMNOPQRSTUVWXYZ

This page was generated on 2024-03-28 14:52:05 -0400 (Thu, 28 Mar 2024).

HostnameOSArch (*)R versionInstalled pkgs
nebbiolo2Linux (Ubuntu 22.04.3 LTS)x86_644.3.3 (2024-02-29) -- "Angel Food Cake" 4669
Click on any hostname to see more info about the system (e.g. compilers)      (*) as reported by 'uname -p', except on Windows and Mac OS X

Package 163/429HostnameOS / ArchINSTALLBUILDCHECK
hapmap500knsp 1.44.0  (landing page)
Benilton Carvalho
Snapshot Date: 2024-03-28 07:30:02 -0400 (Thu, 28 Mar 2024)
git_url: https://git.bioconductor.org/packages/hapmap500knsp
git_branch: RELEASE_3_18
git_last_commit: 1ee33b5
git_last_commit_date: 2023-10-24 08:54:59 -0400 (Tue, 24 Oct 2023)
nebbiolo2Linux (Ubuntu 22.04.3 LTS) / x86_64  OK    OK    OK  UNNEEDED, same version is already published

BUILD results for hapmap500knsp on nebbiolo2


To the developers/maintainers of the hapmap500knsp package:
- Use the following Renviron settings to reproduce errors and warnings.
- If 'R CMD check' started to fail recently on the Linux builder(s) over a missing dependency, add the missing dependency to 'Suggests:' in your DESCRIPTION file. See Renviron.bioc for more information.

raw results


Summary

Package: hapmap500knsp
Version: 1.44.0
Command: /home/biocbuild/bbs-3.18-bioc/R/bin/R CMD build --keep-empty-dirs --no-resave-data hapmap500knsp
StartedAt: 2024-03-28 10:31:31 -0400 (Thu, 28 Mar 2024)
EndedAt: 2024-03-28 10:34:13 -0400 (Thu, 28 Mar 2024)
EllapsedTime: 161.5 seconds
RetCode: 0
Status:   OK  
PackageFile: hapmap500knsp_1.44.0.tar.gz
PackageFileSize: 80.39 MiB

Command output

##############################################################################
##############################################################################
###
### Running command:
###
###   /home/biocbuild/bbs-3.18-bioc/R/bin/R CMD build --keep-empty-dirs --no-resave-data hapmap500knsp
###
##############################################################################
##############################################################################


* checking for file ‘hapmap500knsp/DESCRIPTION’ ... OK
* preparing ‘hapmap500knsp’:
* checking DESCRIPTION meta-information ... OK
* checking for LF line-endings in source and make files and shell scripts
* checking for empty or unneeded directories
* building ‘hapmap500knsp_1.44.0.tar.gz’